BEGIN:VCALENDAR
VERSION:2.0
PRODID:-//No Blog Title Set - ECPv6.15.20//NONSGML v1.0//EN
CALSCALE:GREGORIAN
METHOD:PUBLISH
X-WR-CALNAME:No Blog Title Set
X-ORIGINAL-URL:https://old.pinecobble.org
X-WR-CALDESC:Events for No Blog Title Set
REFRESH-INTERVAL;VALUE=DURATION:PT1H
X-Robots-Tag:noindex
X-PUBLISHED-TTL:PT1H
BEGIN:VTIMEZONE
TZID:America/New_York
BEGIN:DAYLIGHT
TZOFFSETFROM:-0500
TZOFFSETTO:-0400
TZNAME:EDT
DTSTART:20150308T070000
END:DAYLIGHT
BEGIN:STANDARD
TZOFFSETFROM:-0400
TZOFFSETTO:-0500
TZNAME:EST
DTSTART:20151101T060000
END:STANDARD
BEGIN:DAYLIGHT
TZOFFSETFROM:-0500
TZOFFSETTO:-0400
TZNAME:EDT
DTSTART:20160313T070000
END:DAYLIGHT
BEGIN:STANDARD
TZOFFSETFROM:-0400
TZOFFSETTO:-0500
TZNAME:EST
DTSTART:20161106T060000
END:STANDARD
BEGIN:DAYLIGHT
TZOFFSETFROM:-0500
TZOFFSETTO:-0400
TZNAME:EDT
DTSTART:20170312T070000
END:DAYLIGHT
BEGIN:STANDARD
TZOFFSETFROM:-0400
TZOFFSETTO:-0500
TZNAME:EST
DTSTART:20171105T060000
END:STANDARD
BEGIN:DAYLIGHT
TZOFFSETFROM:-0500
TZOFFSETTO:-0400
TZNAME:EDT
DTSTART:20180311T070000
END:DAYLIGHT
BEGIN:STANDARD
TZOFFSETFROM:-0400
TZOFFSETTO:-0500
TZNAME:EST
DTSTART:20181104T060000
END:STANDARD
BEGIN:DAYLIGHT
TZOFFSETFROM:-0500
TZOFFSETTO:-0400
TZNAME:EDT
DTSTART:20190310T070000
END:DAYLIGHT
BEGIN:STANDARD
TZOFFSETFROM:-0400
TZOFFSETTO:-0500
TZNAME:EST
DTSTART:20191103T060000
END:STANDARD
END:VTIMEZONE
BEGIN:VEVENT
DTSTART;VALUE=DATE:20180921
DTEND;VALUE=DATE:20180923
DTSTAMP:20260419T145657
CREATED:20180922T184317Z
LAST-MODIFIED:20180922T184317Z
UID:1841-1537560000-1537646399@old.pinecobble.org
SUMMARY:Picture Day Make-Up & Retakes
DESCRIPTION:There is a retake charge of $5.00 due to the photographer on the day of retakes.
URL:https://old.pinecobble.org/event/picture-day-make-up-retakes/
LOCATION:Pine Cobble School\, 163 Gale Road\, Williamstown\, MA\, 01267\, United States
END:VEVENT
BEGIN:VEVENT
DTSTART;TZID=America/New_York:20180920T120000
DTEND;TZID=America/New_York:20180920T133000
DTSTAMP:20260419T145657
CREATED:20180909T213330Z
LAST-MODIFIED:20180909T213330Z
UID:1789-1537444800-1537450200@old.pinecobble.org
SUMMARY:Boys' Soccer at Mt. Anthony Union Middle School
DESCRIPTION:Students can be picked up at Pine Cobble School around 6:15 p.m.
URL:https://old.pinecobble.org/event/boys-soccer-at-mt-anthony-union-middle-school/
LOCATION:Mt. Anthony Union Middle School\, 747 East Road\, Bennington\, VT\, 05201
CATEGORIES:Athletics,Soccer
END:VEVENT
BEGIN:VEVENT
DTSTART;VALUE=DATE:20180919
DTEND;VALUE=DATE:20180921
DTSTAMP:20260419T145657
CREATED:20180917T201603Z
LAST-MODIFIED:20180917T201603Z
UID:1822-1537387200-1537473599@old.pinecobble.org
SUMMARY:Picture Day (Fourth - Ninth Grades)
DESCRIPTION:
URL:https://old.pinecobble.org/event/picture-day-fourth-ninth-grades/
LOCATION:Pine Cobble School\, 163 Gale Road\, Williamstown\, MA\, 01267\, United States
END:VEVENT
BEGIN:VEVENT
DTSTART;VALUE=DATE:20180918
DTEND;VALUE=DATE:20180920
DTSTAMP:20260419T145657
CREATED:20180428T024840Z
LAST-MODIFIED:20180428T173807Z
UID:1138-1537300800-1537387199@old.pinecobble.org
SUMMARY:No School - Yom Kippur
DESCRIPTION:ASK is available. Please contact ASK (ask@pinecobble.org) if your child plans to attend.
URL:https://old.pinecobble.org/event/yom-kippur-no-school/
LOCATION:Pine Cobble School\, 163 Gale Road\, Williamstown\, MA\, 01267\, United States
CATEGORIES:No School - ASK Available
END:VEVENT
BEGIN:VEVENT
DTSTART;TZID=America/New_York:20180918T120000
DTEND;TZID=America/New_York:20180918T133000
DTSTAMP:20260419T145657
CREATED:20180909T213214Z
LAST-MODIFIED:20180909T213608Z
UID:1786-1537272000-1537277400@old.pinecobble.org
SUMMARY:Boys' Soccer vs. Eaglebrook School
DESCRIPTION:Students can be picked up at Pine Cobble School around 5:30 p.m.
URL:https://old.pinecobble.org/event/boys-soccer-vs-eaglebrook-school/
LOCATION:Pine Cobble School\, 163 Gale Road\, Williamstown\, MA\, 01267\, United States
CATEGORIES:Athletics,Soccer
END:VEVENT
BEGIN:VEVENT
DTSTART;VALUE=DATE:20180917
DTEND;VALUE=DATE:20180919
DTSTAMP:20260419T145657
CREATED:20180917T201503Z
LAST-MODIFIED:20180917T201515Z
UID:1820-1537214400-1537300799@old.pinecobble.org
SUMMARY:Picture Day (Beginners-Third Grades)
DESCRIPTION:
URL:https://old.pinecobble.org/event/picture-day-beginners-third-grades/
LOCATION:Pine Cobble School\, 163 Gale Road\, Williamstown\, MA\, 01267\, United States
END:VEVENT
BEGIN:VEVENT
DTSTART;VALUE=DATE:20180911
DTEND;VALUE=DATE:20180915
DTSTAMP:20260419T145657
CREATED:20180427T194004Z
LAST-MODIFIED:20180512T015640Z
UID:1084-1536696000-1536955199@old.pinecobble.org
SUMMARY:Upper School Fall Trips
DESCRIPTION:Upper School students go on class trips for team building and class unity.
URL:https://old.pinecobble.org/event/upper-school-fall-trips/
LOCATION:Pine Cobble School\, 163 Gale Road\, Williamstown\, MA\, 01267\, United States
END:VEVENT
BEGIN:VEVENT
DTSTART;VALUE=DATE:20180909
DTEND;VALUE=DATE:20180911
DTSTAMP:20260419T145657
CREATED:20180427T193450Z
LAST-MODIFIED:20180428T173752Z
UID:1082-1536523200-1536609599@old.pinecobble.org
SUMMARY:No School - Rosh Hashanah
DESCRIPTION:ASK is available. Please contact ASK (ask@pinecobble.org) if your child plans to attend.
URL:https://old.pinecobble.org/event/rosh-hashanah-no-school/
LOCATION:Pine Cobble School\, 163 Gale Road\, Williamstown\, MA\, 01267\, United States
CATEGORIES:No School - ASK Available
END:VEVENT
BEGIN:VEVENT
DTSTART;TZID=America/New_York:20180904T123000
DTEND;TZID=America/New_York:20180904T143000
DTSTAMP:20260419T145657
CREATED:20180427T192920Z
LAST-MODIFIED:20180428T180948Z
UID:1078-1536064200-1536071400@old.pinecobble.org
SUMMARY:First Day of School BBQ
DESCRIPTION:All of our students and their families come together for a casual\, friendly barbecue on campus to ring in the new school year. It’s a great time to reunite with old friends\, and meet new ones\, too.
URL:https://old.pinecobble.org/event/first-day-school-bbq/
LOCATION:Pine Cobble School\, 163 Gale Road\, Williamstown\, MA\, 01267\, United States
CATEGORIES:Pine Cobble School Event
END:VEVENT
BEGIN:VEVENT
DTSTART;VALUE=DATE:20180903
DTEND;VALUE=DATE:20180905
DTSTAMP:20260419T145657
CREATED:20180427T192315Z
LAST-MODIFIED:20180427T193029Z
UID:1074-1536004800-1536091199@old.pinecobble.org
SUMMARY:First Day of School
DESCRIPTION:Welcome to our 2018-2019 school year!
URL:https://old.pinecobble.org/event/first-day-school-2/
LOCATION:Pine Cobble School\, 163 Gale Road\, Williamstown\, MA\, 01267\, United States
END:VEVENT
BEGIN:VEVENT
DTSTART;VALUE=DATE:20180902
DTEND;VALUE=DATE:20180904
DTSTAMP:20260419T145657
CREATED:20180427T192433Z
LAST-MODIFIED:20180428T173734Z
UID:1076-1535918400-1536004799@old.pinecobble.org
SUMMARY:No School - Labor Day
DESCRIPTION:ASK is not available.
URL:https://old.pinecobble.org/event/labor-day-no-school/
LOCATION:Pine Cobble School\, 163 Gale Road\, Williamstown\, MA\, 01267\, United States
CATEGORIES:No School - ASK Not Available
END:VEVENT
BEGIN:VEVENT
DTSTART;VALUE=DATE:20180722
DTEND;VALUE=DATE:20180728
DTSTAMP:20260419T145657
CREATED:20180427T211008Z
LAST-MODIFIED:20180428T180035Z
UID:1101-1532289600-1532721599@old.pinecobble.org
SUMMARY:Early Childhood Discovery Camp (Theme: Winter in July)
DESCRIPTION:Age: 2 years + 9 months – 4 years old \nAge: 5 – 6 years old\nEngaging\, enchanting\, joyful\, and nurturing! Pine Cobble’s early childhood summer camp balances\, indoor and outdoor play\, stories\, art and movement. New this year\, our early childhood program runs all eleven weeks of summer! \nEach day runs from 8:30 am to 4:00 pm; families may drop off their children as early as 8:00 am. There is also extended program from 4:00 – 5:30 pm at a cost of $75/week. Program costs $275 for the week if a deposit is made by May 1 and $300/week thereafter. \nFor more information contact summers@pinecobble.org
URL:https://old.pinecobble.org/event/early-childhood-discovery-camp-theme-winter-july/
LOCATION:Pine Cobble School\, 163 Gale Road\, Williamstown\, MA\, 01267\, United States
CATEGORIES:Summer Camp
END:VEVENT
BEGIN:VEVENT
DTSTART;VALUE=DATE:20180715
DTEND;VALUE=DATE:20180721
DTSTAMP:20260419T145657
CREATED:20180427T210122Z
LAST-MODIFIED:20180428T175936Z
UID:1099-1531684800-1532116799@old.pinecobble.org
SUMMARY:Early Childhood Discovery Camp (Theme: Beach Party/Ocean Dive)
DESCRIPTION:Age: 2 years + 9 months – 4 years old \nAge: 5 – 6 years old\nEngaging\, enchanting\, joyful\, and nurturing! Pine Cobble’s early childhood summer camp balances\, indoor and outdoor play\, stories\, art and movement. New this year\, our early childhood program runs all eleven weeks of summer! \nEach day runs from 8:30 am to 4:00 pm; families may drop off their children as early as 8:00 am. There is also extended program from 4:00 – 5:30 pm at a cost of $75/week. Program costs $275 for the week if a deposit is made by May 1 and $300/week thereafter. \nFor more information contact summers@pinecobble.org
URL:https://old.pinecobble.org/event/early-childhood-discovery-camp-theme-beach-partyocean-dive/
LOCATION:Pine Cobble School\, 163 Gale Road\, Williamstown\, MA\, 01267\, United States
CATEGORIES:Summer Camp
END:VEVENT
BEGIN:VEVENT
DTSTART;VALUE=DATE:20180708
DTEND;VALUE=DATE:20180714
DTSTAMP:20260419T145657
CREATED:20180427T205944Z
LAST-MODIFIED:20180428T175839Z
UID:1097-1531080000-1531511999@old.pinecobble.org
SUMMARY:Early Childhood Discovery Camp (Theme: Mini-Masters Art Studio 2 with Kaye Shaddock)
DESCRIPTION:Age: 2 years + 9 months – 4 years old \nAge: 5 – 6 years old\nEngaging\, enchanting\, joyful\, and nurturing! Pine Cobble’s early childhood summer camp balances\, indoor and outdoor play\, stories\, art and movement. New this year\, our early childhood program runs all eleven weeks of summer! \nEach day runs from 8:30 am to 4:00 pm; families may drop off their children as early as 8:00 am. There is also extended program from 4:00 – 5:30 pm at a cost of $75/week. Program costs $275 for the week if a deposit is made by May 1 and $300/week thereafter. \nFor more information contact summers@pinecobble.org
URL:https://old.pinecobble.org/event/early-childhood-discovery-camp-theme-mini-masters-art-studio-2-kaye-shaddock/
LOCATION:Pine Cobble School\, 163 Gale Road\, Williamstown\, MA\, 01267\, United States
CATEGORIES:Summer Camp
END:VEVENT
BEGIN:VEVENT
DTSTART;VALUE=DATE:20180704
DTEND;VALUE=DATE:20180707
DTSTAMP:20260419T145657
CREATED:20180427T205819Z
LAST-MODIFIED:20180428T175817Z
UID:1095-1530734400-1530907199@old.pinecobble.org
SUMMARY:Early Childhood Discover Camp (Theme: Mini-Masters Art Studio 1 with Kaye Shaddock)
DESCRIPTION:Age: 2 years + 9 months – 4 years old \nAge: 5 – 6 years old\nEngaging\, enchanting\, joyful\, and nurturing! Pine Cobble’s early childhood summer camp balances\, indoor and outdoor play\, stories\, art and movement. New this year\, our early childhood program runs all eleven weeks of summer! \nEach day runs from 8:30 am to 4:00 pm; families may drop off their children as early as 8:00 am. There is also extended program from 4:00 – 5:30 pm at a cost of $75/week. Program costs $275 for the week if a deposit is made by May 1 and $300/week thereafter. \nFor more information contact summers@pinecobble.org
URL:https://old.pinecobble.org/event/early-childhood-discover-camp-theme-mini-masters-art-studio-1-kaye-shaddock/
LOCATION:Pine Cobble School\, 163 Gale Road\, Williamstown\, MA\, 01267\, United States
CATEGORIES:Summer Camp
END:VEVENT
BEGIN:VEVENT
DTSTART;VALUE=DATE:20180701
DTEND;VALUE=DATE:20180704
DTSTAMP:20260419T145657
CREATED:20180427T204641Z
LAST-MODIFIED:20180428T175809Z
UID:1091-1530475200-1530647999@old.pinecobble.org
SUMMARY:Early Childhood Discovery Camp (Theme: Mini-Masters Art Studio 1 with Kaye Shaddock)
DESCRIPTION:Age: 2 years + 9 months – 4 years old \nAge: 5 – 6 years old\nEngaging\, enchanting\, joyful\, and nurturing! Pine Cobble’s early childhood summer camp balances\, indoor and outdoor play\, stories\, art and movement. New this year\, our early childhood program runs all eleven weeks of summer! \nEach day runs from 8:30 am to 4:00 pm; families may drop off their children as early as 8:00 am. There is also extended program from 4:00 – 5:30 pm at a cost of $75/week. Program costs $275 for the week if a deposit is made by May 1 and $300/week thereafter. \nFor more information contact summers@pinecobble.org
URL:https://old.pinecobble.org/event/early-childhood-discovery-camp-theme-mini-masters-art-studio-1-kaye-shaddock/
LOCATION:MA
CATEGORIES:Summer Camp
END:VEVENT
BEGIN:VEVENT
DTSTART;VALUE=DATE:20180624
DTEND;VALUE=DATE:20180630
DTSTAMP:20260419T145657
CREATED:20180427T204426Z
LAST-MODIFIED:20180428T175756Z
UID:1089-1529870400-1530302399@old.pinecobble.org
SUMMARY:Early Childhood Discovery Camp (Theme: Forest Creatures & Fairies)
DESCRIPTION:Age: 2 years + 9 months – 4 years old \nAge: 5 – 6 years old\nEngaging\, enchanting\, joyful\, and nurturing! Pine Cobble’s early childhood summer camp balances\, indoor and outdoor play\, stories\, art and movement. New this year\, our early childhood program runs all eleven weeks of summer! \nEach day runs from 8:30 am to 4:00 pm; families may drop off their children as early as 8:00 am. There is also extended program from 4:00 – 5:30 pm at a cost of $75/week. Program costs $275 for the week if a deposit is made by May 1 and $300/week thereafter. \nFor more information contact summers@pinecobble.org \n  \n 
URL:https://old.pinecobble.org/event/early-childhood-discovery-camp-theme-forest-creatures-fairies/
LOCATION:Pine Cobble School\, 163 Gale Road\, Williamstown\, MA\, 01267\, United States
CATEGORIES:Summer Camp
END:VEVENT
BEGIN:VEVENT
DTSTART;VALUE=DATE:20180617
DTEND;VALUE=DATE:20180623
DTSTAMP:20260419T145657
CREATED:20180427T204328Z
LAST-MODIFIED:20180428T175747Z
UID:1086-1529265600-1529697599@old.pinecobble.org
SUMMARY:Early Childhood Discovery Camp (Theme: Aliens & Outer Space)
DESCRIPTION:Age: 2 years + 9 months – 4 years old \nAge: 5 – 6 years old\nEngaging\, enchanting\, joyful\, and nurturing! Pine Cobble’s early childhood summer camp balances\, indoor and outdoor play\, stories\, art and movement. New this year\, our early childhood program runs all eleven weeks of summer! \nEach day runs from 8:30 am to 4:00 pm; families may drop off their children as early as 8:00 am. There is also extended program from 4:00 – 5:30 pm at a cost of $75/week. Program costs $275 for the week if a deposit is made by May 1 and $300/week thereafter. \nFor more information contact summers@pinecobble.org \n  \n  \n 
URL:https://old.pinecobble.org/event/early-childhood-discovery-camp-theme-aliens-outer-space/
LOCATION:Pine Cobble School\, 163 Gale Road\, Williamstown\, MA\, 01267\, United States
CATEGORIES:Summer Camp
END:VEVENT
BEGIN:VEVENT
DTSTART;VALUE=DATE:20170904
DTEND;VALUE=DATE:20170906
DTSTAMP:20260419T145657
CREATED:20170621T170354Z
LAST-MODIFIED:20180428T175150Z
UID:692-1504555200-1504641599@old.pinecobble.org
SUMMARY:First Day of School
DESCRIPTION:
URL:https://old.pinecobble.org/event/first-day-school/
LOCATION:Pine Cobble School\, 163 Gale Road\, Williamstown\, MA\, 01267\, United States
END:VEVENT
BEGIN:VEVENT
DTSTART;VALUE=DATE:20170118
DTEND;VALUE=DATE:20170213
DTSTAMP:20260419T145657
CREATED:20161130T125621Z
LAST-MODIFIED:20170118T015632Z
UID:658-1484766000-1486925999@old.pinecobble.org
SUMMARY:Some event
DESCRIPTION:
URL:https://old.pinecobble.org/event/some-event/
LOCATION:MA
END:VEVENT
BEGIN:VEVENT
DTSTART;TZID=America/New_York:20161130T030000
DTEND;TZID=America/New_York:20161130T120000
DTSTAMP:20260419T145657
CREATED:20161130T125436Z
LAST-MODIFIED:20161130T125436Z
UID:656-1480474800-1480507200@old.pinecobble.org
SUMMARY:Test event
DESCRIPTION:Description
URL:https://old.pinecobble.org/event/test-event/
LOCATION:MA
END:VEVENT
END:VCALENDAR