BEGIN:VCALENDAR
VERSION:2.0
PRODID:-//No Blog Title Set - ECPv6.15.20//NONSGML v1.0//EN
CALSCALE:GREGORIAN
METHOD:PUBLISH
X-WR-CALNAME:No Blog Title Set
X-ORIGINAL-URL:https://old.pinecobble.org
X-WR-CALDESC:Events for No Blog Title Set
REFRESH-INTERVAL;VALUE=DURATION:PT1H
X-Robots-Tag:noindex
X-PUBLISHED-TTL:PT1H
BEGIN:VTIMEZONE
TZID:America/New_York
BEGIN:DAYLIGHT
TZOFFSETFROM:-0500
TZOFFSETTO:-0400
TZNAME:EDT
DTSTART:20170312T070000
END:DAYLIGHT
BEGIN:STANDARD
TZOFFSETFROM:-0400
TZOFFSETTO:-0500
TZNAME:EST
DTSTART:20171105T060000
END:STANDARD
BEGIN:DAYLIGHT
TZOFFSETFROM:-0500
TZOFFSETTO:-0400
TZNAME:EDT
DTSTART:20180311T070000
END:DAYLIGHT
BEGIN:STANDARD
TZOFFSETFROM:-0400
TZOFFSETTO:-0500
TZNAME:EST
DTSTART:20181104T060000
END:STANDARD
BEGIN:DAYLIGHT
TZOFFSETFROM:-0500
TZOFFSETTO:-0400
TZNAME:EDT
DTSTART:20190310T070000
END:DAYLIGHT
BEGIN:STANDARD
TZOFFSETFROM:-0400
TZOFFSETTO:-0500
TZNAME:EST
DTSTART:20191103T060000
END:STANDARD
END:VTIMEZONE
BEGIN:VEVENT
DTSTART;TZID=America/New_York:20181025T090000
DTEND;TZID=America/New_York:20181025T140000
DTSTAMP:20260419T100631
CREATED:20180428T173710Z
LAST-MODIFIED:20180710T224123Z
UID:1177-1540458000-1540476000@old.pinecobble.org
SUMMARY:Early Dismissal - Conferences
DESCRIPTION:Meet as a family with your child’s teachers to discuss your child’s progress in the classroom and their participation in community life. You will need to schedule conferences in advance; look to the weekly Messenger for instructions about how. \n12:40 dismissal. ASK is available. Please contact ASK (ask@pinecobble.org) if your child plans to attend. \n 
URL:https://old.pinecobble.org/event/half-day-conferences/
LOCATION:Pine Cobble School\, 163 Gale Road\, Williamstown\, MA\, 01267\, United States
CATEGORIES:No School - ASK Available
END:VEVENT
BEGIN:VEVENT
DTSTART;TZID=America/New_York:20181024T113000
DTEND;TZID=America/New_York:20181024T140000
DTSTAMP:20260419T100631
CREATED:20180428T173535Z
LAST-MODIFIED:20180710T224053Z
UID:1175-1540380600-1540389600@old.pinecobble.org
SUMMARY:Conferences
DESCRIPTION:Meet as a family with your child’s teachers to discuss your child’s progress in the classroom and their participation in community life. You will need to schedule conferences in advance; look to the weekly Messenger for instructions about how.
URL:https://old.pinecobble.org/event/conferences/
LOCATION:Pine Cobble School\, 163 Gale Road\, Williamstown\, MA\, 01267\, United States
END:VEVENT
BEGIN:VEVENT
DTSTART;TZID=America/New_York:20181023T113000
DTEND;TZID=America/New_York:20181023T130000
DTSTAMP:20260419T100631
CREATED:20181011T221340Z
LAST-MODIFIED:20181011T221340Z
UID:1903-1540294200-1540299600@old.pinecobble.org
SUMMARY:Parent vs. Student Field Hockey Game
DESCRIPTION:
URL:https://old.pinecobble.org/event/parent-vs-student-field-hockey-game/
LOCATION:Pine Cobble School\, 163 Gale Road\, Williamstown\, MA\, 01267\, United States
CATEGORIES:Athletics,Field Hockey
END:VEVENT
BEGIN:VEVENT
DTSTART;TZID=America/New_York:20181023T113000
DTEND;TZID=America/New_York:20181023T130000
DTSTAMP:20260419T100631
CREATED:20181011T220836Z
LAST-MODIFIED:20181011T220836Z
UID:1898-1540294200-1540299600@old.pinecobble.org
SUMMARY:Parents vs. Student Soccer Game
DESCRIPTION:
URL:https://old.pinecobble.org/event/parents-vs-student-soccer-game/
LOCATION:Pine Cobble School\, 163 Gale Road\, Williamstown\, MA\, 01267\, United States
CATEGORIES:Athletics,Soccer
END:VEVENT
BEGIN:VEVENT
DTSTART;TZID=America/New_York:20181022T113000
DTEND;TZID=America/New_York:20181022T130000
DTSTAMP:20260419T100631
CREATED:20180909T213954Z
LAST-MODIFIED:20180909T213954Z
UID:1800-1540207800-1540213200@old.pinecobble.org
SUMMARY:Boys' Soccer at The Academy at Charlemont
DESCRIPTION:Students can be picked up at Pine Cobble School around 5:45 p.m.
URL:https://old.pinecobble.org/event/boys-soccer-at-the-academy-at-charlemont/
LOCATION:The Acedemy at Charlemont\, 1359 Route 2\, Chalemont\, MA\, 01339
CATEGORIES:Athletics,Soccer
END:VEVENT
BEGIN:VEVENT
DTSTART;VALUE=DATE:20181019
DTEND;VALUE=DATE:20181021
DTSTAMP:20260419T100631
CREATED:20180909T225253Z
LAST-MODIFIED:20180909T225253Z
UID:1813-1539979200-1540065599@old.pinecobble.org
SUMMARY:Girls' Field Hockey Tournament at Bement School
DESCRIPTION:
URL:https://old.pinecobble.org/event/girls-field-hockey-tournament-at-bement-school/
LOCATION:Bement School\, 94 Old Main Street\, Deerfield\, MA\, 01342
CATEGORIES:Athletics,Field Hockey
END:VEVENT
BEGIN:VEVENT
DTSTART;VALUE=DATE:20181019
DTEND;VALUE=DATE:20181021
DTSTAMP:20260419T100631
CREATED:20180909T213823Z
LAST-MODIFIED:20190904T140632Z
UID:1797-1539979200-1540065599@old.pinecobble.org
SUMMARY:Boys' Soccer Tournament at Berkshire County Day School
DESCRIPTION:Depart from Pine Cobble at 8:15 am. \nPick up time at Pine Cobble is 3:00 pm.
URL:https://old.pinecobble.org/event/boys-soccer-tournament-at-berkshire-county-day-school/
LOCATION:Berkshire Country Day School\, 55 Interlaken Road\, Stockbridge\, MA\, 01262
CATEGORIES:Athletics,Soccer
END:VEVENT
BEGIN:VEVENT
DTSTART;VALUE=DATE:20181018
DTEND;VALUE=DATE:20181020
DTSTAMP:20260419T100631
CREATED:20180428T172633Z
LAST-MODIFIED:20181009T192020Z
UID:1166-1539892800-1539979199@old.pinecobble.org
SUMMARY:Grandparents' & Special Friends' Day
DESCRIPTION:Grandparents and students’ special friends are invited to attend morning classes with their grandchild(ren). Following classes\, grandparents are invited to the Dining Room for a delicious lunch and a few words from the Head of School. A student favorite!
URL:https://old.pinecobble.org/event/grandparents-special-friends-day/
LOCATION:Pine Cobble School\, 163 Gale Road\, Williamstown\, MA\, 01267\, United States
CATEGORIES:Development,Pine Cobble School Event
END:VEVENT
BEGIN:VEVENT
DTSTART;TZID=America/New_York:20181018T120000
DTEND;TZID=America/New_York:20181018T133000
DTSTAMP:20260419T100631
CREATED:20180922T155746Z
LAST-MODIFIED:20180922T155746Z
UID:1839-1539864000-1539869400@old.pinecobble.org
SUMMARY:Boys' Soccer vs. Berkshire Country Day School
DESCRIPTION:Students can be picked up at Pine Cobble School around 5:45 p.m.
URL:https://old.pinecobble.org/event/boys-soccer-vs-berkshire-country-day-school/
LOCATION:Pine Cobble School\, 163 Gale Road\, Williamstown\, MA\, 01267\, United States
CATEGORIES:Athletics,Soccer
END:VEVENT
BEGIN:VEVENT
DTSTART;TZID=America/New_York:20181018T113000
DTEND;TZID=America/New_York:20181018T130000
DTSTAMP:20260419T100631
CREATED:20181017T165527Z
LAST-MODIFIED:20181017T165527Z
UID:1925-1539862200-1539867600@old.pinecobble.org
SUMMARY:RESCHEDULED - Girls' Field Hockey vs. Bement School
DESCRIPTION:Students can be picked up at Pine Cobble School around 5:00 p.m.
URL:https://old.pinecobble.org/event/rescheduled-girls-field-hockey-vs-bement-school-2/
LOCATION:Pine Cobble School\, 163 Gale Road\, Williamstown\, MA\, 01267\, United States
CATEGORIES:Athletics,Field Hockey
END:VEVENT
BEGIN:VEVENT
DTSTART;TZID=America/New_York:20181018T043000
DTEND;TZID=America/New_York:20181018T053000
DTSTAMP:20260419T100631
CREATED:20181001T184316Z
LAST-MODIFIED:20181017T165032Z
UID:1858-1539837000-1539840600@old.pinecobble.org
SUMMARY:CANCELLED - PTG Meeting
DESCRIPTION:
URL:https://old.pinecobble.org/event/ptg-meeting/
LOCATION:Pine Cobble School\, 163 Gale Road\, Williamstown\, MA\, 01267\, United States
CATEGORIES:Pine Cobble School Event,PTG Event
END:VEVENT
BEGIN:VEVENT
DTSTART;TZID=America/New_York:20181018T040000
DTEND;TZID=America/New_York:20181018T190000
DTSTAMP:20260419T100631
CREATED:20181017T165147Z
LAST-MODIFIED:20181018T182420Z
UID:1922-1539835200-1539889200@old.pinecobble.org
SUMMARY:RESCHEDULED - Picture Day Re-Takes
DESCRIPTION:There is a $5 fee for retakes\, however if your child was absent for their originally schedule time\, there is no charge.
URL:https://old.pinecobble.org/event/picture-day-re-takes/
LOCATION:Pine Cobble School\, 163 Gale Road\, Williamstown\, MA\, 01267\, United States
END:VEVENT
BEGIN:VEVENT
DTSTART;TZID=America/New_York:20181016T233000
DTEND;TZID=America/New_York:20181017T130000
DTSTAMP:20260419T100631
CREATED:20180921T213717Z
LAST-MODIFIED:20180921T213717Z
UID:1830-1539732600-1539781200@old.pinecobble.org
SUMMARY:Girls' Field Hockey at Emma Willard School
DESCRIPTION:Students can be picked up at Pine Cobble School around 6:00 p.m.
URL:https://old.pinecobble.org/event/girls-field-hockey-at-emma-willard-school/
LOCATION:Emma Williard School\, 285 Pawling Avenue\, Troy\, NY\, 12180\, United States
CATEGORIES:Athletics,Field Hockey
END:VEVENT
BEGIN:VEVENT
DTSTART;TZID=America/New_York:20181015T113000
DTEND;TZID=America/New_York:20181015T130000
DTSTAMP:20260419T100631
CREATED:20181015T204257Z
LAST-MODIFIED:20181015T204257Z
UID:1910-1539603000-1539608400@old.pinecobble.org
SUMMARY:RESCHEDULED - Girls' Field Hockey vs. Bement School
DESCRIPTION:Students can be picked up at Pine Cobble School around 5:00 p.m.
URL:https://old.pinecobble.org/event/rescheduled-girls-field-hockey-vs-bement-school/
LOCATION:Pine Cobble School\, 163 Gale Road\, Williamstown\, MA\, 01267\, United States
CATEGORIES:Athletics,Field Hockey
END:VEVENT
BEGIN:VEVENT
DTSTART;TZID=America/New_York:20181015T113000
DTEND;TZID=America/New_York:20181015T130000
DTSTAMP:20260419T100631
CREATED:20180909T213717Z
LAST-MODIFIED:20180909T214030Z
UID:1795-1539603000-1539608400@old.pinecobble.org
SUMMARY:Boys' Soccer vs. The Academy at Charlemont
DESCRIPTION:Students can be picked up at Pine Cobble School around 5:00 p.m.
URL:https://old.pinecobble.org/event/boys-soccer-vs-the-academy-at-charlemont/
LOCATION:Pine Cobble School\, 163 Gale Road\, Williamstown\, MA\, 01267\, United States
CATEGORIES:Athletics,Soccer
END:VEVENT
BEGIN:VEVENT
DTSTART;TZID=America/New_York:20181015T113000
DTEND;TZID=America/New_York:20181015T130000
DTSTAMP:20260419T100631
CREATED:20180909T212131Z
LAST-MODIFIED:20181015T204104Z
UID:1773-1539603000-1539608400@old.pinecobble.org
SUMMARY:CANCELLED - Girls' Field Hockey vs. Bement School
DESCRIPTION:Students can be picked up at Pine Cobble School around 5:00 p.m.
URL:https://old.pinecobble.org/event/girls-field-hockey-vs-bement-school/
LOCATION:Pine Cobble School\, 163 Gale Road\, Williamstown\, MA\, 01267\, United States
CATEGORIES:Athletics,Field Hockey
END:VEVENT
BEGIN:VEVENT
DTSTART;TZID=America/New_York:20181012T120000
DTEND;TZID=America/New_York:20181012T133000
DTSTAMP:20260419T100631
CREATED:20180909T225213Z
LAST-MODIFIED:20181012T152117Z
UID:1811-1539345600-1539351000@old.pinecobble.org
SUMMARY:Girls' Field Hockey vs. Mt. Anthony Union Middle School
DESCRIPTION:pineStudents can be picked up at Pine Cobble School around 6:15 p.m.
URL:https://old.pinecobble.org/event/girls-field-hockey-vs-mt-anthony-union-middle-school/
LOCATION:Pine Cobble School\, 163 Gale Road\, Williamstown\, MA\, 01267\, United States
CATEGORIES:Athletics,Field Hockey
END:VEVENT
BEGIN:VEVENT
DTSTART;TZID=America/New_York:20181012T120000
DTEND;TZID=America/New_York:20181012T133000
DTSTAMP:20260419T100631
CREATED:20180909T213535Z
LAST-MODIFIED:20180909T213535Z
UID:1793-1539345600-1539351000@old.pinecobble.org
SUMMARY:Boys' Soccer vs. Mt. Anthony Union Middle School
DESCRIPTION:Students can be picked up at Pine Cobble School around 5:30 p.m.
URL:https://old.pinecobble.org/event/boys-soccer-vs-mt-anthony-union-middle-school/
LOCATION:Pine Cobble School\, 163 Gale Road\, Williamstown\, MA\, 01267\, United States
CATEGORIES:Athletics,Soccer
END:VEVENT
BEGIN:VEVENT
DTSTART;TZID=America/New_York:20181010T123000
DTEND;TZID=America/New_York:20181010T140000
DTSTAMP:20260419T100631
CREATED:20180926T161248Z
LAST-MODIFIED:20180926T161345Z
UID:1853-1539174600-1539180000@old.pinecobble.org
SUMMARY:RESCHEDULED - Girls’ Field Hockey vs. Manchester Elementary Middle School
DESCRIPTION:Student can be picked up at Pine Cobble School around 6:00 p.m.
URL:https://old.pinecobble.org/event/girls-field-hockey-vs-manchester-elementary-middle-school/
LOCATION:Pine Cobble School\, 163 Gale Road\, Williamstown\, MA\, 01267\, United States
CATEGORIES:Athletics,Field Hockey
END:VEVENT
BEGIN:VEVENT
DTSTART;VALUE=DATE:20181008
DTEND;VALUE=DATE:20181010
DTSTAMP:20260419T100631
CREATED:20180428T172317Z
LAST-MODIFIED:20180428T173842Z
UID:1164-1539028800-1539115199@old.pinecobble.org
SUMMARY:No School - Professional Development Day
DESCRIPTION:ASK is available. Please contact ASK (ask@pinecobble.org) if your child plans to attend.
URL:https://old.pinecobble.org/event/professional-development-day-no-school/
LOCATION:Pine Cobble School\, 163 Gale Road\, Williamstown\, MA\, 01267\, United States
CATEGORIES:No School - ASK Available
END:VEVENT
BEGIN:VEVENT
DTSTART;VALUE=DATE:20181007
DTEND;VALUE=DATE:20181009
DTSTAMP:20260419T100631
CREATED:20180428T172222Z
LAST-MODIFIED:20180428T173825Z
UID:1162-1538942400-1539028799@old.pinecobble.org
SUMMARY:No School - Indigenous Peoples' Day
DESCRIPTION:ASK is not available.
URL:https://old.pinecobble.org/event/indigenous-peoples-day-no-school/
LOCATION:Pine Cobble School\, 163 Gale Road\, Williamstown\, MA\, 01267\, United States
CATEGORIES:No School - ASK Not Available
END:VEVENT
BEGIN:VEVENT
DTSTART;VALUE=DATE:20181004
DTEND;VALUE=DATE:20181006
DTSTAMP:20260419T100631
CREATED:20180428T172129Z
LAST-MODIFIED:20180704T002007Z
UID:1160-1538683200-1538769599@old.pinecobble.org
SUMMARY:Mountain Day Rain Date
DESCRIPTION:A tradition for eight decades. Everyone heads out for a day of outdoor activity\, the older students climbing Mt. Greylock or another local mountain. Early Childhood goes to Hopkins Forest.
URL:https://old.pinecobble.org/event/mountain-day-rain-date/
LOCATION:Pine Cobble School\, 163 Gale Road\, Williamstown\, MA\, 01267\, United States
CATEGORIES:Athletics
END:VEVENT
BEGIN:VEVENT
DTSTART;TZID=America/New_York:20181004T121500
DTEND;TZID=America/New_York:20181004T134500
DTSTAMP:20260419T100631
CREATED:20180909T212730Z
LAST-MODIFIED:20180909T225116Z
UID:1781-1538655300-1538660700@old.pinecobble.org
SUMMARY:Girls' Field Hockey at Manchester Elementary School
DESCRIPTION:Students can be picked up at Pine Cobble School around 7:00 p.m.
URL:https://old.pinecobble.org/event/girls-field-hockey-at-manchester-elementary-school/
LOCATION:Manchester Elementary School\, 80 Memorial Avenue\, Manchester Center\, VT\, 05255
CATEGORIES:Athletics,Field Hockey
END:VEVENT
BEGIN:VEVENT
DTSTART;TZID=America/New_York:20181004T113000
DTEND;TZID=America/New_York:20181004T130000
DTSTAMP:20260419T100631
CREATED:20180909T213436Z
LAST-MODIFIED:20180909T214154Z
UID:1791-1538652600-1538658000@old.pinecobble.org
SUMMARY:Boys' Soccer at Eaglebrook School
DESCRIPTION:Students can be picked up at Pine Cobble School around 6:30 p.m.
URL:https://old.pinecobble.org/event/boys-soccer-at-eaglebrook-school/
LOCATION:Eaglebrook School\, 271 Pine Nook Road\, Deerfield\, MA\, 01342
CATEGORIES:Athletics,Soccer
END:VEVENT
BEGIN:VEVENT
DTSTART;VALUE=DATE:20181003
DTEND;VALUE=DATE:20181005
DTSTAMP:20260419T100631
CREATED:20180922T002523Z
LAST-MODIFIED:20180924T164913Z
UID:1833-1538596800-1538683199@old.pinecobble.org
SUMMARY:Picture Day (Rescheduled 5th\, 7th and 8th Grade)
DESCRIPTION:
URL:https://old.pinecobble.org/event/picture-day-rescheduled/
LOCATION:Pine Cobble School\, 163 Gale Road\, Williamstown\, MA\, 01267\, United States
END:VEVENT
BEGIN:VEVENT
DTSTART;TZID=America/New_York:20181002T120000
DTEND;TZID=America/New_York:20181002T133000
DTSTAMP:20260419T100631
CREATED:20180909T212552Z
LAST-MODIFIED:20180909T225023Z
UID:1777-1538481600-1538487000@old.pinecobble.org
SUMMARY:Girls' Field Hockey at Mt. Anthony Union Middle School
DESCRIPTION:Students can be picked up at Pine Cobble School around 6:45 p.m.
URL:https://old.pinecobble.org/event/girls-field-hockey-at-mt-anthony-union-middle-school/
LOCATION:Mt. Anthony Union Middle School\, 747 East Road\, Bennington\, VT\, 05201
CATEGORIES:Athletics,Field Hockey
END:VEVENT
BEGIN:VEVENT
DTSTART;VALUE=DATE:20180927
DTEND;VALUE=DATE:20180929
DTSTAMP:20260419T100631
CREATED:20180428T172050Z
LAST-MODIFIED:20180704T001938Z
UID:1158-1538078400-1538164799@old.pinecobble.org
SUMMARY:Mountain Day
DESCRIPTION:A tradition for eight decades. Everyone heads out for a day of outdoor activity\, the older students climbing Mt. Greylock or another local mountain. Early Childhood goes to Hopkins Forest.
URL:https://old.pinecobble.org/event/mountain-day/
LOCATION:Pine Cobble School\, 163 Gale Road\, Williamstown\, MA\, 01267\, United States
CATEGORIES:Athletics
END:VEVENT
BEGIN:VEVENT
DTSTART;TZID=America/New_York:20180927T133000
DTEND;TZID=America/New_York:20180927T163000
DTSTAMP:20260419T100631
CREATED:20180428T025649Z
LAST-MODIFIED:20180917T201713Z
UID:1140-1538055000-1538065800@old.pinecobble.org
SUMMARY:Parents' Night
DESCRIPTION:Parents only\, so you’ll need a babysitter! You’ll meet with all of your child’s teachers\, get a strong sense of how students spend their days. The evening finishes with a dinner in the dining room sponsored by the PTG! \n  \nReminder: ASK will be ending at 4:30 p.m. due to Parents’ Night.
URL:https://old.pinecobble.org/event/parents-night/
LOCATION:Pine Cobble School\, 163 Gale Road\, Williamstown\, MA\, 01267\, United States
CATEGORIES:Pine Cobble School Event,PTG Event
END:VEVENT
BEGIN:VEVENT
DTSTART;VALUE=DATE:20180926
DTEND;VALUE=DATE:20180928
DTSTAMP:20260419T100631
CREATED:20180922T002819Z
LAST-MODIFIED:20180922T012307Z
UID:1837-1537992000-1538078399@old.pinecobble.org
SUMMARY:Picture Day Rescheduled (Beg - 2nd Grade)
DESCRIPTION:
URL:https://old.pinecobble.org/event/picture-day-rescheduled-beg-2nd-grade/
LOCATION:Pine Cobble School\, 163 Gale Road\, Williamstown\, MA\, 01267\, United States
END:VEVENT
BEGIN:VEVENT
DTSTART;TZID=America/New_York:20180925T123000
DTEND;TZID=America/New_York:20180925T140000
DTSTAMP:20260419T100631
CREATED:20180909T212253Z
LAST-MODIFIED:20180925T224857Z
UID:1775-1537878600-1537884000@old.pinecobble.org
SUMMARY:CANCELLED - Girls' Field Hockey vs. Manchester Elementary School
DESCRIPTION:Students can be picked up at Pine Cobble School around 6:00 p.m.
URL:https://old.pinecobble.org/event/girls-field-hockey-vs-manchester-elementary-school/
LOCATION:Pine Cobble School\, 163 Gale Road\, Williamstown\, MA\, 01267\, United States
CATEGORIES:Athletics,Field Hockey
END:VEVENT
END:VCALENDAR